BEGIN:VCALENDAR
VERSION:2.0
PRODID:-//WelpIcalBundle//Calendar App//PL
CALSCALE:GREGORIAN
METHOD:PUBLISH
BEGIN:VTIMEZONE
TZID:Europe/Warsaw
BEGIN:STANDARD
DTSTART:20261025T010000
TZOFFSETTO:+0100
TZOFFSETFROM:+0200
RRULE:FREQ=YEARLY;BYMONTH=11;BYDAY=1SU
END:STANDARD
BEGIN:DAYLIGHT
DTSTART:20260329T010000
TZOFFSETTO:+0200
TZOFFSETFROM:+0100
RRULE:FREQ=YEARLY;BYMONTH=3;BYDAY=2SU
END:DAYLIGHT
END:VTIMEZONE
BEGIN:VEVENT
UID:18524@klubstudio
DTSTART:20260804T193000
DTEND:20260804T230000
SUMMARY:Left to Die + Livlos & Chaotian
DESCRIPTION:Otwarcie bram: 18:30\nLeft to Die w Polsce! Przypomną nam
  o dwóch\npierwszych płytach Death w towarzystwie Livlos i Chaotian
LOCATION;LANGUAGE=pl:Klub Zaścianek
URL:https://www.klubzascianek.pl/koncert/e1dxpR/2026-08-04/Left-to-Die
 -Livlos-Chaotian
DTSTAMP:20260423T143655Z
ORGANIZER;CN=Knock Out Productions;LANGUAGE=pl:
END:VEVENT
END:VCALENDAR
