BEGIN:VCALENDAR
VERSION:2.0
PRODID:-//WelpIcalBundle//Calendar App//PL
CALSCALE:GREGORIAN
METHOD:PUBLISH
BEGIN:VTIMEZONE
TZID:Europe/Warsaw
BEGIN:STANDARD
DTSTART:20261025T010000
TZOFFSETTO:+0100
TZOFFSETFROM:+0200
RRULE:FREQ=YEARLY;BYMONTH=11;BYDAY=1SU
END:STANDARD
BEGIN:DAYLIGHT
DTSTART:20260329T010000
TZOFFSETTO:+0200
TZOFFSETFROM:+0100
RRULE:FREQ=YEARLY;BYMONTH=3;BYDAY=2SU
END:DAYLIGHT
END:VTIMEZONE
BEGIN:VEVENT
UID:18527@klubstudio
DTSTART:20260610T193000
DTEND:20260610T230000
SUMMARY:The Casualties
DESCRIPTION:Otwarcie bram: 19:00\nNajwiększe irokezy i kolce na amery
 kańskiej scenie street punk? To oczywiście The Casualties!☠️ Gru
 pa pod dowództwem Marca Eggersa i Jake’a Kolatisa wystąpi w Polsce
  trzykrotnie: 10 czerwca w krakowskim Zaścianku\, 30 czerwca w 2Proga
 ch w Poznaniu oraz 1 lipca w Hydrozagadce w Warszawie.
LOCATION;LANGUAGE=pl:Klub Zaścianek
URL:https://www.klubzascianek.pl/koncert/XpLJ4X/2026-06-10/The-Casualties
DTSTAMP:20260422T121344Z
ORGANIZER;CN=WiniaryBookings;LANGUAGE=pl:
END:VEVENT
END:VCALENDAR
