BEGIN:VCALENDAR
VERSION:2.0
PRODID:-//WelpIcalBundle//Calendar App//PL
CALSCALE:GREGORIAN
METHOD:PUBLISH
BEGIN:VTIMEZONE
TZID:Europe/Warsaw
BEGIN:STANDARD
DTSTART:20231029T010000
TZOFFSETTO:+0100
TZOFFSETFROM:+0200
RRULE:FREQ=YEARLY;BYMONTH=11;BYDAY=1SU
END:STANDARD
BEGIN:DAYLIGHT
DTSTART:20230326T010000
TZOFFSETTO:+0200
TZOFFSETFROM:+0100
RRULE:FREQ=YEARLY;BYMONTH=3;BYDAY=2SU
END:DAYLIGHT
END:VTIMEZONE
BEGIN:VEVENT
UID:14295@klubstudio
DTSTART:20231107T183000
DTEND:20231107T210000
SUMMARY:Blackwater Holylight + Iron Jinn Blackwater Holylight + Iron Jinn
DESCRIPTION:Blackwater Holylight (promujące “Silence / Motion” z 
 2021 roku) mieszają gęstego od riffów stonera i psychodelicznego ro
 cka ze slowcorem czy shoegazem.
LOCATION;LANGUAGE=pl:Klub Zaścianek
URL:https://www.klubzascianek.pl/koncert/Xldb1X/2023-11-07/Blackwater-
 Holylight-Iron-Jinn-Blackwater-Holylight-Iron-Jinn
DTSTAMP:20260421T012909Z
ORGANIZER;CN=Knock Out Productions;LANGUAGE=pl:
END:VEVENT
END:VCALENDAR
