BEGIN:VCALENDAR
VERSION:2.0
PRODID:-//WelpIcalBundle//Calendar App//PL
CALSCALE:GREGORIAN
METHOD:PUBLISH
BEGIN:VTIMEZONE
TZID:Europe/Warsaw
BEGIN:STANDARD
DTSTART:20201025T010000
TZOFFSETTO:+0100
TZOFFSETFROM:+0200
RRULE:FREQ=YEARLY;BYMONTH=11;BYDAY=1SU
END:STANDARD
BEGIN:DAYLIGHT
DTSTART:20200329T010000
TZOFFSETTO:+0200
TZOFFSETFROM:+0100
RRULE:FREQ=YEARLY;BYMONTH=3;BYDAY=2SU
END:DAYLIGHT
END:VTIMEZONE
BEGIN:VEVENT
UID:10774@klubstudio
DTSTART:20200222T200000
DTEND:20200222T230000
SUMMARY:Box Anima, ugla, Organic Noises
DESCRIPTION:Otwarcie bram: 19:30\nPremiera wyczekiwanej\, debiutanckie
 j EPki „Niepokój” zespołu Box Anima. \nZ tej okazji z radością
  zaprosiliśmy wyjątkowe zespoły: uglę i Organic Noises\, by wspól
 nie stworzyć niezapomniany wieczór dla publiczności. Bądźcie z na
 mi!\nBOX ANIMA to krakowskie trio akustyczne\, przekazujące swoją mu
 zyką potężną dawkę surowych emocji. Największą przyjemność cz
 erpią z eksperymentowania z możliwościami swojego instrumentarium. 
 Od niezwykle charyzmatycznego głosu i dynamicznej wiolonczeli (Natali
 a Orkisz)\, przez rozedrganą\, frenetyczną gitarę (Tomek Idziak)\, 
 po ciężki\, dziki cajon (Wiktor Machowski). W ich muzyce słychać i
 nspiracje prog-rockiem\, folkiem\, art-rockiem\, trip-hopem i progresy
 wnym metalem spod znaku Toola.
LOCATION;LANGUAGE=pl:Klub Zaścianek
URL:https://www.klubzascianek.pl/koncert/XanD1R/2020-02-22/Box-Anima-u
 gla-Organic-Noises
DTSTAMP:20260425T212611Z
ORGANIZER;CN=Fundacja ACADEMICA;LANGUAGE=pl:
END:VEVENT
END:VCALENDAR
