BEGIN:VCALENDAR
VERSION:2.0
PRODID:-//WelpIcalBundle//Calendar App//PL
CALSCALE:GREGORIAN
METHOD:PUBLISH
BEGIN:VTIMEZONE
TZID:Europe/Warsaw
BEGIN:STANDARD
DTSTART:20211031T010000
TZOFFSETTO:+0100
TZOFFSETFROM:+0200
RRULE:FREQ=YEARLY;BYMONTH=11;BYDAY=1SU
END:STANDARD
BEGIN:DAYLIGHT
DTSTART:20210328T010000
TZOFFSETTO:+0200
TZOFFSETFROM:+0100
RRULE:FREQ=YEARLY;BYMONTH=3;BYDAY=2SU
END:DAYLIGHT
END:VTIMEZONE
BEGIN:VEVENT
UID:12269@klubstudio
DTSTART:20211015T190000
DTEND:20211015T210000
SUMMARY:Gutek
DESCRIPTION:Otwarcie bram: 19:00\nGutek (Indios Bravos) w Zaścianku! 
 Gościł na wielu płytach\, ale obecnie promuje swoją pierwszą. Pie
 rwszą w roli autora\, kompozytora i lidera. Przez wiele lat jego char
 akterystyczny głos i melodyjny śpiew kojarzył się z Indios Bravos\
 , jak również dodawał smaku hip hopowym hymnom przełomu wieków.
LOCATION;LANGUAGE=pl:Klub Zaścianek
URL:https://www.klubzascianek.pl/koncert/XZ2mjX/2021-10-15/Gutek
DTSTAMP:20260422T092642Z
ORGANIZER;CN=Fundacja ACADEMICA;LANGUAGE=pl:
END:VEVENT
END:VCALENDAR
