BEGIN:VCALENDAR
VERSION:2.0
PRODID:-//WelpIcalBundle//Calendar App//PL
CALSCALE:GREGORIAN
METHOD:PUBLISH
BEGIN:VTIMEZONE
TZID:Europe/Warsaw
BEGIN:STANDARD
DTSTART:20251026T010000
TZOFFSETTO:+0100
TZOFFSETFROM:+0200
RRULE:FREQ=YEARLY;BYMONTH=11;BYDAY=1SU
END:STANDARD
BEGIN:DAYLIGHT
DTSTART:20250330T010000
TZOFFSETTO:+0200
TZOFFSETFROM:+0100
RRULE:FREQ=YEARLY;BYMONTH=3;BYDAY=2SU
END:DAYLIGHT
END:VTIMEZONE
BEGIN:VEVENT
UID:16634@klubstudio
DTSTART:20250805T190000
DTEND:20250805T210000
SUMMARY:KONCERT ODWOŁANY Ill Nino
DESCRIPTION:Otwarcie bram: 18:30\nZ tętniących życiem i muzyką sce
 n Nowego Jorku i New Jersey\, prosto na europejską trasę - Ill Niño
  powraca do kraju nad Wisłą na jedyny koncert w Polsce!
LOCATION;LANGUAGE=pl:Klub Zaścianek
URL:https://www.klubzascianek.pl/koncert/X9xgDB/2025-08-05/KONCERT-ODW
 O%C5%81ANY-Ill-Nino
DTSTAMP:20260422T225829Z
ORGANIZER;CN=Fundacja ACADEMICA;LANGUAGE=pl:
END:VEVENT
END:VCALENDAR
