BEGIN:VCALENDAR
VERSION:2.0
PRODID:-//WelpIcalBundle//Calendar App//PL
CALSCALE:GREGORIAN
METHOD:PUBLISH
BEGIN:VTIMEZONE
TZID:Europe/Warsaw
BEGIN:STANDARD
DTSTART:20231029T010000
TZOFFSETTO:+0100
TZOFFSETFROM:+0200
RRULE:FREQ=YEARLY;BYMONTH=11;BYDAY=1SU
END:STANDARD
BEGIN:DAYLIGHT
DTSTART:20230326T010000
TZOFFSETTO:+0200
TZOFFSETFROM:+0100
RRULE:FREQ=YEARLY;BYMONTH=3;BYDAY=2SU
END:DAYLIGHT
END:VTIMEZONE
BEGIN:VEVENT
UID:14391@klubstudio
DTSTART:20231108T213000
DTEND:20231108T230000
SUMMARY:Impro Konfitury - ImproFest XI edycja Międzynarodowego Festiw
 alu Improwizacji Scenicznej
DESCRIPTION:Zapraszamy na XI edycję Międzynarodowego Festiwalu Impro
 wizacji Scenicznej - ImproFest! Największe wydarzenie komediowe krako
 wskiej jesieni!
LOCATION;LANGUAGE=pl:Inne Miejsce
URL:https://www.klubzascianek.pl/kabaret/RqP9yX/2023-11-08/Impro-Konfi
 tury-ImproFest-XI-edycja-Mi%C4%99dzynarodowego-Festiwalu-Improwizacji-
 Scenicznej
DTSTAMP:20260425T104211Z
ORGANIZER;CN=Fundacja ACADEMICA;LANGUAGE=pl:
END:VEVENT
END:VCALENDAR
