BEGIN:VCALENDAR
VERSION:2.0
PRODID:-//WelpIcalBundle//Calendar App//PL
CALSCALE:GREGORIAN
METHOD:PUBLISH
BEGIN:VTIMEZONE
TZID:Europe/Warsaw
BEGIN:STANDARD
DTSTART:20261025T010000
TZOFFSETTO:+0100
TZOFFSETFROM:+0200
RRULE:FREQ=YEARLY;BYMONTH=11;BYDAY=1SU
END:STANDARD
BEGIN:DAYLIGHT
DTSTART:20260329T010000
TZOFFSETTO:+0200
TZOFFSETFROM:+0100
RRULE:FREQ=YEARLY;BYMONTH=3;BYDAY=2SU
END:DAYLIGHT
END:VTIMEZONE
BEGIN:VEVENT
UID:18047@klubstudio
DTSTART:20261202T183000
DTEND:20261202T230000
SUMMARY:Darvaza + Merrimack +  Helleruin + Detresse
DESCRIPTION:Otwarcie bram: 18:00\nJeden wieczór\, cztery black metalo
 we gigi\, absolutny festiwal śmierci\, zniszczenia i wszystkiego co n
 ajlepsze. Darvaza + Merrimack +  Helleruin + Detresse już 2 grudnia 
 w krakowskim Zaścianku!
LOCATION;LANGUAGE=pl:Klub Zaścianek
URL:https://www.klubzascianek.pl/koncert/RqLvPX/2026-12-02/Darvaza-Mer
 rimack-Helleruin-Detresse
DTSTAMP:20260420T033959Z
ORGANIZER;CN=Fundacja ACADEMICA;LANGUAGE=pl:
END:VEVENT
END:VCALENDAR
