BEGIN:VCALENDAR
VERSION:2.0
PRODID:-//WelpIcalBundle//Calendar App//PL
CALSCALE:GREGORIAN
METHOD:PUBLISH
BEGIN:VTIMEZONE
TZID:Europe/Warsaw
BEGIN:STANDARD
DTSTART:20221030T010000
TZOFFSETTO:+0100
TZOFFSETFROM:+0200
RRULE:FREQ=YEARLY;BYMONTH=11;BYDAY=1SU
END:STANDARD
BEGIN:DAYLIGHT
DTSTART:20220327T010000
TZOFFSETTO:+0200
TZOFFSETFROM:+0100
RRULE:FREQ=YEARLY;BYMONTH=3;BYDAY=2SU
END:DAYLIGHT
END:VTIMEZONE
BEGIN:VEVENT
UID:12567@klubstudio
DTSTART:20220422T200000
DTEND:20220422T230000
SUMMARY:Dr Misio + The Analogs + the pajx
DESCRIPTION:Otwarcie bram: 19:00\nCzy piosenki śpiewane przez zespó
 ł jednego z najbardziej znanych i charakterystycznych aktorów wspó
 łczesnego polskiego kina bardzo różnią się przekazem od piosenek 
 napisanych przez ludzi wychowanych na blokowiskach i w suterenach brud
 nego miasta? Czy to jak widzą i opisują swoje otoczenie\, uczucia i 
 doświadczenia to dwa różne\, zupełnie inne światy?
LOCATION;LANGUAGE=pl:Klub Zaścianek
URL:https://www.klubzascianek.pl/koncert/RYoxVB/2022-04-22/Dr-Misio-Th
 e-Analogs-the-pajx
DTSTAMP:20260424T223744Z
ORGANIZER;CN=Fundacja ACADEMICA;LANGUAGE=pl:
END:VEVENT
END:VCALENDAR
