BEGIN:VCALENDAR
VERSION:2.0
PRODID:-//WelpIcalBundle//Calendar App//PL
CALSCALE:GREGORIAN
METHOD:PUBLISH
BEGIN:VTIMEZONE
TZID:Europe/Warsaw
BEGIN:STANDARD
DTSTART:20241027T010000
TZOFFSETTO:+0100
TZOFFSETFROM:+0200
RRULE:FREQ=YEARLY;BYMONTH=11;BYDAY=1SU
END:STANDARD
BEGIN:DAYLIGHT
DTSTART:20240331T010000
TZOFFSETTO:+0200
TZOFFSETFROM:+0100
RRULE:FREQ=YEARLY;BYMONTH=3;BYDAY=2SU
END:DAYLIGHT
END:VTIMEZONE
BEGIN:VEVENT
UID:15600@klubstudio
DTSTART:20241101T200000
DTEND:20241101T220000
SUMMARY:Closterkeller Trupoteka
DESCRIPTION:Otwarcie bram: 19:00\n1 listopada z Trupoteką w Zaścianku!
LOCATION;LANGUAGE=pl:Klub Zaścianek
URL:https://www.klubzascianek.pl/koncert/R4Yome/2024-11-01/Closterkell
 er-Trupoteka
DTSTAMP:20260421T173718Z
ORGANIZER;CN=Fundacja ACADEMICA;LANGUAGE=pl:
END:VEVENT
END:VCALENDAR
