BEGIN:VCALENDAR
VERSION:2.0
PRODID:-//WelpIcalBundle//Calendar App//PL
CALSCALE:GREGORIAN
METHOD:PUBLISH
BEGIN:VTIMEZONE
TZID:Europe/Warsaw
BEGIN:STANDARD
DTSTART:20211031T010000
TZOFFSETTO:+0100
TZOFFSETFROM:+0200
RRULE:FREQ=YEARLY;BYMONTH=11;BYDAY=1SU
END:STANDARD
BEGIN:DAYLIGHT
DTSTART:20210328T010000
TZOFFSETTO:+0200
TZOFFSETFROM:+0100
RRULE:FREQ=YEARLY;BYMONTH=3;BYDAY=2SU
END:DAYLIGHT
END:VTIMEZONE
BEGIN:VEVENT
UID:12312@klubstudio
DTSTART:20211127T200000
DTEND:20211127T230000
SUMMARY:Dr Misio + Pull The Wire
DESCRIPTION:Otwarcie bram: 19:00\nDr Misio\, czyli projekt powstały z
  inicjatywy aktora Arkadiusza Jakubika\, grający ostrego rock’n’r
 olla w połączeniu z bezkompromisowym punkiem dla nowych pokoleń fan
 ów tej muzyki  wystąpi w krakowskim Klubie Zaścianek! Razem z nim: 
 Pull The Wire! Jazda bez trzymanki!
LOCATION;LANGUAGE=pl:Klub Zaścianek
URL:https://www.klubzascianek.pl/koncert/BnlmqR/2021-11-27/Dr-Misio-Pu
 ll-The-Wire
DTSTAMP:20260420T051553Z
ORGANIZER;CN=Fundacja ACADEMICA;LANGUAGE=pl:
END:VEVENT
END:VCALENDAR
