BEGIN:VCALENDAR
VERSION:2.0
PRODID:-//WelpIcalBundle//Calendar App//PL
CALSCALE:GREGORIAN
METHOD:PUBLISH
BEGIN:VTIMEZONE
TZID:Europe/Warsaw
BEGIN:STANDARD
DTSTART:20261025T010000
TZOFFSETTO:+0100
TZOFFSETFROM:+0200
RRULE:FREQ=YEARLY;BYMONTH=11;BYDAY=1SU
END:STANDARD
BEGIN:DAYLIGHT
DTSTART:20260329T010000
TZOFFSETTO:+0200
TZOFFSETFROM:+0100
RRULE:FREQ=YEARLY;BYMONTH=3;BYDAY=2SU
END:DAYLIGHT
END:VTIMEZONE
BEGIN:VEVENT
UID:17259@klubstudio
DTSTART:20260321T200000
DTEND:20260321T220000
SUMMARY:Dikanda + Ukoja
DESCRIPTION:Otwarcie bram: 19:00\nKolorowa\, pachnąca słońcem muzyk
 a świata w Klubie Zaścianek!
LOCATION;LANGUAGE=pl:Klub Zaścianek
URL:https://www.klubzascianek.pl/koncert/BOv12e/2026-03-21/Dikanda-Ukoja
DTSTAMP:20260424T220751Z
ORGANIZER;CN=Fundacja ACADEMICA;LANGUAGE=pl:
END:VEVENT
END:VCALENDAR
